BEGIN:VCALENDAR
VERSION:2.0
PRODID:-//eventon.com NONSGML v1.0//EN
CALSCALE:GREGORIAN
METHOD:PUBLISH
BEGIN:VEVENT
UID:69e5e796a1d43
DTSTAMP:20260420T084510Z
DTSTART:20200908T180000Z
DTEND:20200908T193000Z
LOCATION:
SUMMARY:Arbeitstreffen der Manufaktur 1
DESCRIPTION:Folgende Themen sollen diskutiert werden: Forderungen der Manuf
 aktur unter dem Licht der Klimaneutralität Münchens bis 2035 und des neue
 n grün-roten Koalitionsvertrags Chancen und Risiken von Corona in Bezug au
 f Klimaschutz und Energie in München Das Treffen findet online statt.\nhtt
 ps://www.m-i-n.net/events/sommerfest/
URL:https://www.m-i-n.net/events/sommerfest/
END:VEVENT
END:VCALENDAR