BEGIN:VCALENDAR
VERSION:2.0
PRODID:-//eventon.com NONSGML v1.0//EN
CALSCALE:GREGORIAN
METHOD:PUBLISH
BEGIN:VEVENT
UID:69e5f2b7ceae6
DTSTAMP:20260420T093239Z
DTSTART:20260416T170000Z
DTEND:20260416T210000Z
LOCATION:Café Philoxenos im Griechischen Haus Bergmannstraße 46\, 
SUMMARY:Westend Wohnzimmer im Café Philoxenos
DESCRIPTION:Komm vorbei im Westend Wohnzimmer! Wann? Am 16.04.2026 von 17:0
 0 bis 21:00 Wo? Café Philoxenos im Griechischen Haus\,  Bergmannstraße 46
 \,  80339 München Ein Viertel\,  ein Tisch\,  viele Begegnungen Der Wander
 tisch ist kein fester Ort und genau das macht ihn besonders. Er zieht von W
 oche zu Woche durch das Westend\,  macht[..]\nhttps://www.m-i-n.net/events/
 westend-wohnzimmer-im-cafe-philoxenos-am-16-04-2026/
URL:https://www.m-i-n.net/events/westend-wohnzimmer-im-cafe-philoxenos-am-16-04-2026/
END:VEVENT
END:VCALENDAR