BEGIN:VCALENDAR
VERSION:2.0
PRODID:-//eventon.com NONSGML v1.0//EN
CALSCALE:GREGORIAN
METHOD:PUBLISH
BEGIN:VEVENT
UID:69e5f2b3322b5
DTSTAMP:20260420T093235Z
DTSTART:20260416T170000Z
DTEND:20260416T190000Z
LOCATION:
SUMMARY:Wir empfehlen: Debatte "Radlhauptstadt München? – Bikeability im Kontext der kommunalen Radverkehrspolitik"
DESCRIPTION:Debatte &#8222;Radlhauptstadt München? – Bikeability im Kont
 ext der kommunalen Radverkehrspolitik&#8220; Wann? 16. April 2026\,  19:00 
 Uhr Wo? Verkehrsclub Deutschland (VCD) &#8211; Büro Kreisverband München\
 ,  Breisacher Str. 12\,  81667 München oder über Zoom München ist selbst
 ernannte Radlhauptstadt\,  doch das über 20 Jahre alte Radnetz sowie umfan
 greiche Forderungen nach verbesserten Bedingungen für[..]\nhttps://www.m-i
 -n.net/events/wir-empfehlen-debatte-radlhauptstadt-muenchen-bikeability-im-
 kontext-der-kommunalen-radverkehrspolitik/
URL:https://www.m-i-n.net/events/wir-empfehlen-debatte-radlhauptstadt-muenchen-bikeability-im-kontext-der-kommunalen-radverkehrspolitik/
END:VEVENT
END:VCALENDAR