BEGIN:VCALENDAR
VERSION:2.0
PRODID:-//eventon.com NONSGML v1.0//EN
CALSCALE:GREGORIAN
METHOD:PUBLISH
BEGIN:VEVENT
UID:69e73967eb9dd
DTSTAMP:20260421T084631Z
DTSTART:20260316T173000Z
DTEND:20260316T193000Z
LOCATION:
SUMMARY:Wir empfehlen: Workshop zur Ausstellung Solutions Exhibition
DESCRIPTION:Workshop zur Ausstellung Solutions Exhibition Wann? 16. März 2
 026\,  18:30 – 20:30 Uhr Wo? Münchner Bildungswerk\,  Dachauer Str. 5 (3
 . Stock)\,  80335 München Was wäre\,  wenn die Antworten auf viele Heraus
 forderungen unserer Zeit längst existieren? Die Solutions Exhibition präs
 entiert 45 inspirierende Initiativen aus unterschiedlichen Regionen weltwei
 t\,  die auf vielfältige Weise[..]\nhttps://www.m-i-n.net/events/wir-empfe
 hlen-workshop-zur-ausstellung-solutions-exhibition/
URL:https://www.m-i-n.net/events/wir-empfehlen-workshop-zur-ausstellung-solutions-exhibition/
END:VEVENT
END:VCALENDAR