BEGIN:VCALENDAR
VERSION:2.0
PRODID:-//eventon.com NONSGML v1.0//EN
CALSCALE:GREGORIAN
METHOD:PUBLISH
BEGIN:VEVENT
UID:69e5fded2e379
DTSTAMP:20260420T102029Z
DTSTART:20260307T110000Z
DTEND:20260307T120000Z
LOCATION:
SUMMARY:Wir empfehlen: Demonstration der OMAS GEGEN RECHTS
DESCRIPTION:Demonstration der OMAS GEGEN RECHTS Wann? 7. März 2026\,  12:0
 0 –  13:00 Uhr Wo? Karlsplatz Stachus\,  München Im Angesicht der bevor
 stehenden Kommunalwahl demonstrieren die Münchner OMAS GEGEN RECHTS wieder
 \,  um auch von ihrer Seite aus ein Zeichen für Vielfalt und Demokratie st
 att Hass und Hetze\,  Freiheit\,  soziale Gerechtigkeit\,  Umweltschutz\,  
 und[..]\nhttps://www.m-i-n.net/events/wir-empfehlen-demonstration-der-muenc
 hner-omas-gegen-rechts/
URL:https://www.m-i-n.net/events/wir-empfehlen-demonstration-der-muenchner-omas-gegen-rechts/
END:VEVENT
END:VCALENDAR