BEGIN:VCALENDAR
VERSION:2.0
PRODID:-//eventon.com NONSGML v1.0//EN
CALSCALE:GREGORIAN
METHOD:PUBLISH
BEGIN:VEVENT
UID:69e5f2b3bebed
DTSTAMP:20260420T093235Z
DTSTART:20260416T170000Z
DTEND:20260416T190000Z
LOCATION:
SUMMARY:Equal Kerl Stammtisch
DESCRIPTION:Equal Kerl Stammtisch Wann? 16. April 2026\,  19:00 – 21:00 U
 hr Wo? Bellevue di Monaco\,  Müllerstraße 2\,  80469 München „Wie mach
 t Ihr das…?“ Bringst Du Dich in die Alltagsaufgaben zu Hause ein? Denks
 t Du gleichzeitig\,  dass sich die Betreuung z.B. von Kindern und Haushalt 
 für Dich und Deine Partnerin nicht[..]\nhttps://www.m-i-n.net/events/equal
 -kerl-stammtisch/
URL:https://www.m-i-n.net/events/equal-kerl-stammtisch/
END:VEVENT
END:VCALENDAR