BEGIN:VCALENDAR
VERSION:2.0
PRODID:-//eventon.com NONSGML v1.0//EN
CALSCALE:GREGORIAN
METHOD:PUBLISH
BEGIN:VEVENT
UID:69e61d6b44cc7
DTSTAMP:20260420T123451Z
DTSTART:20260312T170000Z
DTEND:20260312T200000Z
LOCATION:
SUMMARY:Wir empfehlen: Digitalisierung – wie wir sie nachhaltig nutzen
DESCRIPTION:Digitalisierung – wie wir sie nachhaltig nutzen Wann? 12. Mä
 rz 2026\,  18:00 bis 21:00 Uhr Wo? Lutherkirche – Martin-Luther-Str. 4\, 
  81539 München Workshop mit dem Digitalisierungs-Puzzle: Schnell ein paar 
 Fotos mit dem Handy gemacht\,  per Mail an Bekannte verschickt\,  mehrere B
 rowser-Fenster gleichzeitig offen\,  zwischendurch auf Youtube ein Video ge
 schaut …[..]\nhttps://www.m-i-n.net/events/wir-empfehlen-digitalisierung-
 wie-wir-sie-nachhaltig-nutzen/
URL:https://www.m-i-n.net/events/wir-empfehlen-digitalisierung-wie-wir-sie-nachhaltig-nutzen/
END:VEVENT
END:VCALENDAR