BEGIN:VCALENDAR
VERSION:2.0
PRODID:-//eventon.com NONSGML v1.0//EN
CALSCALE:GREGORIAN
METHOD:PUBLISH
BEGIN:VEVENT
UID:69e5fde9b9df6
DTSTAMP:20260420T102025Z
DTSTART:20260310T173000Z
DTEND:20260310T193000Z
LOCATION:
SUMMARY:Wir empfehlen: Eure Forschung. Unsere Stadt. Gemeinsam weiterdenken.
DESCRIPTION:Eure Forschung. Unsere Stadt. Gemeinsam weiterdenken. Wann? 10.
  März 2026\,  18:30 bis 20:30 Uhr Wo? Schnitzer&amp; Studio\,  Lindwurmstr
 aße 95a\,  80337 München Das Münchner Forum lädt am 10. März 2026 Stud
 ierende dazu ein\,  Ihre Abschlussarbeiten zu Stadtentwicklungsthemen einem
  interessierten und engagierten Publikum vorzustellen\,  Ideen weiterzuentw
 ickeln und Pläne zu schmieden\,  wie der[..]\nhttps://www.m-i-n.net/events
 /wir-empfehlen-eure-forschung-unsere-stadt-gemeinsam-weiterdenken/
URL:https://www.m-i-n.net/events/wir-empfehlen-eure-forschung-unsere-stadt-gemeinsam-weiterdenken/
END:VEVENT
END:VCALENDAR