BEGIN:VCALENDAR
VERSION:2.0
PRODID:-//eventon.com NONSGML v1.0//EN
CALSCALE:GREGORIAN
METHOD:PUBLISH
BEGIN:VEVENT
UID:69e73c05e1d53
DTSTAMP:20260421T085741Z
DTSTART:20260315T230000Z
DTEND:20260329T215900Z
LOCATION:
SUMMARY:Wir empfehlen: Programm zu den Internationalen Wochen gegen Rassismus
DESCRIPTION:Programm zu den Internationalen Wochen gegen Rassismus Wann? 16
 . März bis 29. März 2026 Wo? München Die Internationalen Wochen gegen Ra
 ssismus finden im kommenden Jahr vom 16. bis 29. März 2026 statt. Das von
  der Stiftung für die Internationalen Wochen gegen Rassismus bundesweit vo
 rgeschlagene Motto für 2026 ist „100% Menschenwürde. Zusammen[..]\nhttp
 s://www.m-i-n.net/events/wir-empfehlen-programm-zu-den-internationalen-woch
 en-gegen-rassismus/
URL:https://www.m-i-n.net/events/wir-empfehlen-programm-zu-den-internationalen-wochen-gegen-rassismus/
END:VEVENT
END:VCALENDAR