BEGIN:VCALENDAR
VERSION:2.0
PRODID:-//eventon.com NONSGML v1.0//EN
CALSCALE:GREGORIAN
METHOD:PUBLISH
BEGIN:VEVENT
UID:69e49a086fd8c
DTSTAMP:20260419T090200Z
DTSTART:20260121T173000Z
DTEND:20260121T193000Z
LOCATION:
SUMMARY:Wir empfehlen: Wie sinnvoll und erfolgversprechend sind Verbotsverfahren gegen extrem rechte Parteien?
DESCRIPTION:Wie sinnvoll und erfolgversprechend sind Verbotsverfahren gegen
  extrem rechte Parteien? Wann? 21. Januar 2026\,  18:30 bis 20:30 Uhr Wo? G
 esellschaftsraum\,  Buttermelcherstraße 1580469 München Derzeit wird in P
 olitik\,  Medien und Gesellschaft intensiv darüber diskutiert\,  ob ein A
 fD-Verbotsverfahren eingeleitet werden sollte oder ob das mehr schaden als
  nützen würde. Ein Blick in die Geschichte[..]\nhttps://www.m-i-n.net/eve
 nts/wir-empfehlen-wie-sinnvoll-und-erfolgversprechend-sind-verbotsverfahren
 -gegen-extrem-rechte-parteien/
URL:https://www.m-i-n.net/events/wir-empfehlen-wie-sinnvoll-und-erfolgversprechend-sind-verbotsverfahren-gegen-extrem-rechte-parteien/
END:VEVENT
END:VCALENDAR