BEGIN:VCALENDAR
VERSION:2.0
PRODID:-//eventon.com NONSGML v1.0//EN
CALSCALE:GREGORIAN
METHOD:PUBLISH
BEGIN:VEVENT
UID:69e75d50b3d59
DTSTAMP:20260421T111944Z
DTSTART:20260114T173000Z
DTEND:20260114T190000Z
LOCATION:
SUMMARY:Wir empfehlen: Dein München\,  Deine Wahl: Warum Kommunalpolitik uns alle etwas angeht
DESCRIPTION:Dein München\,  Deine Wahl: Warum Kommunalpolitik uns alle etw
 as angeht Wann? 14. Januar 2026\,  18:30 bis 20:00 Uhr Wo? Gesellschaftsrau
 m\,  Buttermelcherstraße 1580469 München Die Kommunalwahl am 8. März s
 teht vor der Tür\,  aber nur wenige interessieren sich dafür? Dabei ist g
 erade lokale Politik für alle Bürger:innen relevant\,  weil hier politisc
 he Themen des[..]\nhttps://www.m-i-n.net/events/wir-empfehlen-dein-muenchen
 -deine-wahl-warum-kommunalpolitik-uns-alle-etwas-angeht/
URL:https://www.m-i-n.net/events/wir-empfehlen-dein-muenchen-deine-wahl-warum-kommunalpolitik-uns-alle-etwas-angeht/
END:VEVENT
END:VCALENDAR