BEGIN:VCALENDAR
VERSION:2.0
PRODID:-//eventon.com NONSGML v1.0//EN
CALSCALE:GREGORIAN
METHOD:PUBLISH
BEGIN:VEVENT
UID:69e5e76f08d25
DTSTAMP:20260420T084431Z
DTSTART:20260309T090000Z
DTEND:20260309T170000Z
LOCATION:
SUMMARY:Wir empfehlen: Globaler Frauen* General Streik
DESCRIPTION:Globaler Frauen* General Streik Wann? 09. März 2026 Wo? Marien
 platz\,  80331 München Die Zeit ist reif. Für einen Protest\,  der so vie
 lfältig ist wie wir. Und so unübersehbar wie die Probleme. Als eine notwe
 ndige Antwort auf die wachsende weltweite Bedrohung von Frauen* – physisc
 h\,  psychisch\,  durch Armut und Gewalt\,  durch[..]\nhttps://www.m-i-n.ne
 t/events/wir-empfehlen-globaler-frauen-general-streik/
URL:https://www.m-i-n.net/events/wir-empfehlen-globaler-frauen-general-streik/
END:VEVENT
END:VCALENDAR