BEGIN:VCALENDAR
VERSION:2.0
PRODID:-//eventon.com NONSGML v1.0//EN
CALSCALE:GREGORIAN
METHOD:PUBLISH
BEGIN:VEVENT
UID:69e7743030429
DTSTAMP:20260421T125720Z
DTSTART:20260912T140000Z
DTEND:20260913T190000Z
LOCATION:
SUMMARY:Wir empfehlen: Zamanand Festival
DESCRIPTION:Zamanand Festival Wann? 12. September 2026\,  16:00 bis 02:00 U
 hr und 13. September 2026\,  11:00 bis 21:00 Uhr Wo? Ludwigsstraße\,  8053
 9 München An zwei Wochenenden im Jahr (Frühjahr &amp; Herbst) entsteht 
 anlässlich des autofreien Tages ein spannender Freiraum mitten im Herzen M
 ünchens. Das Zamanand Festival soll wie ein offener\,  einladender Stadtr
 aum wirken – lebendig\, [..]\nhttps://www.m-i-n.net/events/wir-empfehlen
 -zamanand-festival-3/
URL:https://www.m-i-n.net/events/wir-empfehlen-zamanand-festival-3/
END:VEVENT
END:VCALENDAR