BEGIN:VCALENDAR
VERSION:2.0
PRODID:-//eventon.com NONSGML v1.0//EN
CALSCALE:GREGORIAN
METHOD:PUBLISH
BEGIN:VEVENT
UID:69e733f83da28
DTSTAMP:20260421T082320Z
DTSTART:20251216T093000Z
DTEND:20251216T130000Z
LOCATION:
SUMMARY:Wir empfehlen: Gesunde Winterküche - Quartiersküche Milbertshofen
DESCRIPTION:Gesunde Winterküche &#8211; Quartiersküche Milbertshofen Wann
 ? 16. Dezember 2025\,  10:30 bis 14:00 Uhr Wo? Georgenschwaigestr. 28\,  80
 807 München Die Quartiersküche Milbertshofen befindet sich derzeit im A
 ufbau und soll ein Ort werden\,  an dem Menschen aus dem Stadtteil zusammen
 kommen\,  um gemeinsam zu kochen\,  zu essen und sich auszutauschen – üb
 er gutes Essen\,  Nachhaltigkeit[..]\nhttps://www.m-i-n.net/events/wir-empf
 ehlen-gesunde-winterkueche-quartierskueche-milbertshofen/
URL:https://www.m-i-n.net/events/wir-empfehlen-gesunde-winterkueche-quartierskueche-milbertshofen/
END:VEVENT
END:VCALENDAR