BEGIN:VCALENDAR
VERSION:2.0
PRODID:-//eventon.com NONSGML v1.0//EN
CALSCALE:GREGORIAN
METHOD:PUBLISH
BEGIN:VEVENT
UID:69e5f75530388
DTSTAMP:20260420T095221Z
DTSTART:20251101T070000Z
DTEND:20251121T190000Z
LOCATION:
SUMMARY:Wir empfehlen: Bundesweiter Wettbewerb: "Stadt Land zu Fuß"
DESCRIPTION:Bundesweiter Wettbewerb: &#8222;Stadt Land zu Fuß&#8220; Wann?
  01. &#8211; 21. November 2025 Wo? Ganz München Die Landeshauptstadt Münc
 hen beteiligt sich zum ersten Mal am bundesweiten Wettbewerb „Stadt Land 
 zu Fuß“. 21 Tage hintereinander\,  vom Samstag\,  1. November bis Freita
 g\,  21. November 2025\,  sollen möglichst viele Wege gesundheitsfördernd
  und klimafreundlich zu[..]\nhttps://www.m-i-n.net/events/wir-empfehlen-bun
 desweiter-wettbewerb-stadt-land-zu-fuss/
URL:https://www.m-i-n.net/events/wir-empfehlen-bundesweiter-wettbewerb-stadt-land-zu-fuss/
END:VEVENT
END:VCALENDAR