BEGIN:VCALENDAR
VERSION:2.0
PRODID:-//eventon.com NONSGML v1.0//EN
CALSCALE:GREGORIAN
METHOD:PUBLISH
BEGIN:VEVENT
UID:69e4d06c26f35
DTSTAMP:20260419T125404Z
DTSTART:20251125T170000Z
DTEND:20251125T200000Z
LOCATION:
SUMMARY:Tat-Ort Wohnen – Gemeinsam aktiv für nachhaltiges Bauen & bezahlbares Wohnen
DESCRIPTION:Tat-Ort Wohnen – Gemeinsam aktiv für nachhaltiges Bauen &amp
 ; bezahlbares Wohnen &nbsp; Wann? 25. November 2025\,  18:00 bis 21:00 Uhr 
 Wo? eine Woche vorher per Mail Die Mieten steigen unaufhörlich\,  der Bode
 npreis explodiert und gleichzeitig stehen in bester Lage Immobilien leer\, 
  während überall Begegnungsorte ohne Konsumzwang fehlen. Auszubildende\, 
  Studierende und[..]\nhttps://www.m-i-n.net/events/tat-ort-wohnen-gemeinsam
 -aktiv-fuer-nachhaltiges-bauen-bezahlbares-wohnen/
URL:https://www.m-i-n.net/events/tat-ort-wohnen-gemeinsam-aktiv-fuer-nachhaltiges-bauen-bezahlbares-wohnen/
END:VEVENT
END:VCALENDAR