BEGIN:VCALENDAR
VERSION:2.0
PRODID:-//eventon.com NONSGML v1.0//EN
CALSCALE:GREGORIAN
METHOD:PUBLISH
BEGIN:VEVENT
UID:69e5e52b58367
DTSTAMP:20260420T083451Z
DTSTART:20251212T183000Z
DTEND:20251212T210000Z
LOCATION:
SUMMARY:Wir empfehlen: Charity-Jam für BISS
DESCRIPTION:Charity-Jam für BISS Wann? 12. Dezember 2025 Wo? Westendstraß
 e 76/im Hinterhof\,  80339 München Der Jam für den guten Zweck. Wie immer
  gehen alle Eintrittsgelder und Gagen an BISS. Einlass 19:30 Eintritt 10€
  Mehr Infos findest du hier.\nhttps://www.m-i-n.net/events/wir-empfehlen-ch
 arity-jam-fuer-biss/
URL:https://www.m-i-n.net/events/wir-empfehlen-charity-jam-fuer-biss/
END:VEVENT
END:VCALENDAR