BEGIN:VCALENDAR
VERSION:2.0
PRODID:-//eventon.com NONSGML v1.0//EN
CALSCALE:GREGORIAN
METHOD:PUBLISH
BEGIN:VEVENT
UID:69e5e5154f417
DTSTAMP:20260420T083429Z
DTSTART:20251023T150000Z
DTEND:20251023T160000Z
LOCATION:
SUMMARY:Wir empfehlen: Radiosendung Lora - Ja oder Nein zu Olympia in München?
DESCRIPTION:Radiosendung Lora &#8211; Ja oder Nein zu Olympia in München? 
 Wann? 23. Oktober 2025\,  17:00 Uhr Wo? online Am 23.10.25 findet eine Radi
 osendung zum Thema Olympia in München\,  Ja oder Nein? bei Radio Lora stat
 t. Den Livestream findet ihr hier: Livestream – Radio Lora München. Ab d
 em 24.10. findet ihr[..]\nhttps://www.m-i-n.net/events/wir-empfehlen-radios
 endung-lora-ja-oder-nein-zu-olympia-in-muenchen/
URL:https://www.m-i-n.net/events/wir-empfehlen-radiosendung-lora-ja-oder-nein-zu-olympia-in-muenchen/
END:VEVENT
END:VCALENDAR