BEGIN:VCALENDAR
VERSION:2.0
PRODID:-//eventon.com NONSGML v1.0//EN
CALSCALE:GREGORIAN
METHOD:PUBLISH
BEGIN:VEVENT
UID:69e5f47543e6e
DTSTAMP:20260420T094005Z
DTSTART:20251021T160000Z
DTEND:20251108T150000Z
LOCATION:
SUMMARY:Wir empfehlen: FIX IT – UMBAU statt ABRISS Wanderausstellung und Begleitprogramm zu HouseEurope!
DESCRIPTION:FIX IT – UMBAU statt ABRISS Wanderausstellung und Begleitprog
 ramm zu HouseEurope! Wann? 21. Oktober bis 08. November 2025\,  Mo-Fr: 9-17
  Uhr\,  Sa-So: 12-16 Uhr Wo? BDA Bayern\,  Türkenstraße 34\,  80333 Münc
 hen Die Wanderausstellung FIX IT! &#8211; UMBAU STATT ABRISS kommt nun im O
 ktober nach München! ‍ Sie wird von Architects4Future[..]\nhttps://www.m
 -i-n.net/events/wir-empfehlen-fix-it-umbau-statt-abriss-wanderausstellung-u
 nd-begleitprogramm-zu-houseeurope/
URL:https://www.m-i-n.net/events/wir-empfehlen-fix-it-umbau-statt-abriss-wanderausstellung-und-begleitprogramm-zu-houseeurope/
END:VEVENT
END:VCALENDAR