BEGIN:VCALENDAR
VERSION:2.0
PRODID:-//eventon.com NONSGML v1.0//EN
CALSCALE:GREGORIAN
METHOD:PUBLISH
BEGIN:VEVENT
UID:69e609fed23a0
DTSTAMP:20260420T111158Z
DTSTART:20251013T170000Z
DTEND:20251013T183000Z
LOCATION:
SUMMARY:Wir empfehlen: Vortrag Dr. Albert Denk & Johanna Siebert: „’Grüne Eliten gegen den Volkswillen’ – Rechtspopulistische Narrative im Bereich der Umwelt- und Klimapolitik”
DESCRIPTION:’Grüne Eliten gegen den Volkswillen’ – Rechtspopulistisc
 he Narrative im Bereich der Umwelt- und Klimapolitik” Wann? 13. Oktober 2
 025\,  19:00 bis 20:30 Uhr Wo? Münchner Zukunftssalon\,  Goethestr. 28\,  
 80336  München und online  »Nachhaltigkeit und Klimaschutz sind Elitenp
 rojekte auf Kosten des Volkes.« – Narrative wie diese sind zunehmend Tei
 l rechtspopulistischer Argumentation. Sie[..]\nhttps://www.m-i-n.net/events
 /wir-empfehlen-vortrag-dr-albert-denk-johanna-siebert-gruene-eliten-gegen-d
 en-volkswillen-rechtspopulistische-narrative-im-bereich-der-umwelt-und-klim
 apolitik/
URL:https://www.m-i-n.net/events/wir-empfehlen-vortrag-dr-albert-denk-johanna-siebert-gruene-eliten-gegen-den-volkswillen-rechtspopulistische-narrative-im-bereich-der-umwelt-und-klimapolitik/
END:VEVENT
END:VCALENDAR