BEGIN:VCALENDAR
VERSION:2.0
PRODID:-//eventon.com NONSGML v1.0//EN
CALSCALE:GREGORIAN
METHOD:PUBLISH
BEGIN:VEVENT
UID:69e5fd95f016f
DTSTAMP:20260420T101901Z
DTSTART:20251127T083000Z
DTEND:20251127T160000Z
LOCATION:
SUMMARY:Wir empfehlen: Stadt in Bewegung Aushandlungen von Mobilität und (Lebens-)Raum
DESCRIPTION:Stadt in Bewegung Aushandlungen von Mobilität und (Lebens-)Rau
 m Wann? 27. November 2025\,  09:30 bis 17:00 Uhr Wo? Südliches Schlossrond
 ell 23\,  80638 München Vor dem Hintergrund immer drängenderer Herausford
 erungen wie Luftverschmutzung\,  Erhitzung und Platzmangel gilt es\,  neue 
 Kriterien auszuhandeln\,  nach welchen städtische Plätze und Straßen als
  Fortbewegungs- und Lebensräume gestaltet und[..]\nhttps://www.m-i-n.net/e
 vents/wir-empfehlen-stadt-in-bewegung-aushandlungen-von-mobilitaet-und-lebe
 ns-raum/
URL:https://www.m-i-n.net/events/wir-empfehlen-stadt-in-bewegung-aushandlungen-von-mobilitaet-und-lebens-raum/
END:VEVENT
END:VCALENDAR