BEGIN:VCALENDAR
VERSION:2.0
PRODID:-//eventon.com NONSGML v1.0//EN
CALSCALE:GREGORIAN
METHOD:PUBLISH
BEGIN:VEVENT
UID:69e88cd6e7440
DTSTAMP:20260422T085446Z
DTSTART:20251011T160000Z
DTEND:20251109T190000Z
LOCATION:
SUMMARY:Wir empfehlen: Münchner Klimaherbst
DESCRIPTION:Münchner Klimaherbst Wann? 11. Oktober bis 9. November 2025 Wo
 ? München Workshops\,  Vorträge\,  Exkursionen\,  Diskussionen\,  Filme u
 nd vieles mehr erwartet euch beim Münchner Klimaherbst. Den Kalender mit a
 llen Veranstaltungen findest du hier.\nhttps://www.m-i-n.net/events/wir-emp
 fehlen-muenchner-klimaherbst/
URL:https://www.m-i-n.net/events/wir-empfehlen-muenchner-klimaherbst/
END:VEVENT
END:VCALENDAR