BEGIN:VCALENDAR
VERSION:2.0
PRODID:-//eventon.com NONSGML v1.0//EN
CALSCALE:GREGORIAN
METHOD:PUBLISH
BEGIN:VEVENT
UID:69e5f915a422d
DTSTAMP:20260420T095949Z
DTSTART:20250920T120000Z
DTEND:20250920T160000Z
LOCATION:
SUMMARY:Weltkindertag: 20. September 2025
DESCRIPTION:Weltkindertag: 20. September 2025 Wann? 20. September 2025\,  1
 4:00 bis 18:00 Uhr Wo? Grünanlage am Neuhofener Berg\,  Alois-Johannes-Lip
 pl-Weg\,  81371 München Am 20. September wird in München der „Weltkinde
 rtag&#8220; mit einem bunten Familienfest gefeiert. Dabei erhält die MIN o
 ffiziell das neue &#8222;MIN-Kinder-Glücksrad&#8220; ! Benjamin von der Fr
 eizeitstätte Boomerang und Jonas vom[..]\nhttps://www.m-i-n.net/events/wel
 tkindertag-zwanzigster-september/
URL:https://www.m-i-n.net/events/weltkindertag-zwanzigster-september/
END:VEVENT
END:VCALENDAR