BEGIN:VCALENDAR
VERSION:2.0
PRODID:-//eventon.com NONSGML v1.0//EN
CALSCALE:GREGORIAN
METHOD:PUBLISH
BEGIN:VEVENT
UID:69e74c304e0b3
DTSTAMP:20260421T100640Z
DTSTART:20250915T170000Z
DTEND:20250915T190000Z
LOCATION:
SUMMARY:Wir empfehlen: Wärmeplanung: „Nahwärmelösungen – Idee\,  Mitwirkung\,  Umsetzung“
DESCRIPTION:Wärmeplanung: „Nahwärmelösungen – Idee\,  Mitwirkung\,  
 Umsetzung“ Es wird eingeladen zur nächsten hybriden Vortragsveranstaltun
 g mit Publikums- und chat-Diskussion zum Schwerpunkt „Mein Klima… in M
 ünchen“ Dr. Tilman Rave Referat für Klima- und Umweltschutz\,  München
 \,  Leiter des Sachgebiets „Wärmestrategie und Quartier“ Clemens Hecke
 r Referat für Klima- und Umweltschutz\,  München\,  Mitarbeiter im Sachge
 biet „Wärmestrategie und[..]\nhttps://www.m-i-n.net/events/wir-empfehlen
 -waermeplanung-nahwaermeloesungen-idee-mitwirkung-umsetzung/
URL:https://www.m-i-n.net/events/wir-empfehlen-waermeplanung-nahwaermeloesungen-idee-mitwirkung-umsetzung/
END:VEVENT
END:VCALENDAR