BEGIN:VCALENDAR
VERSION:2.0
PRODID:-//eventon.com NONSGML v1.0//EN
CALSCALE:GREGORIAN
METHOD:PUBLISH
BEGIN:VEVENT
UID:69e74bb506eba
DTSTAMP:20260421T100437Z
DTSTART:20251028T173000Z
DTEND:20251028T193000Z
LOCATION:
SUMMARY:Wir empfehlen: Ernährungssouveränität für München – Wege zu einer bio-regionalen Versorgung
DESCRIPTION:Ernährungssouveränität für München – Wege zu einer bio-r
 egionalen Versorgung Wann? 28. Oktober 2025\,  18:30 bis 20:30 Uhr Wo? Mün
 chner Zukuntssalon\,  Goethestraße 28\,  80336 München Die Kommunalwahl a
 m 8. März 2026 ist ein Wendepunkt – auch für die Frage\,  wie wir uns
  in München künftig ernähren. Jetzt ist die Zeit\,  Ernährung als zentr
 ales[..]\nhttps://www.m-i-n.net/events/wir-empfehlen-ernaehrungssouveraenit
 aet-fuer-muenchen-wege-zu-einer-bio-regionalen-versorgung/
URL:https://www.m-i-n.net/events/wir-empfehlen-ernaehrungssouveraenitaet-fuer-muenchen-wege-zu-einer-bio-regionalen-versorgung/
END:VEVENT
END:VCALENDAR