BEGIN:VCALENDAR
VERSION:2.0
PRODID:-//eventon.com NONSGML v1.0//EN
CALSCALE:GREGORIAN
METHOD:PUBLISH
BEGIN:VEVENT
UID:69e4d022c9ab2
DTSTAMP:20260419T125250Z
DTSTART:20250902T063100Z
DTEND:20250902T063100Z
LOCATION:
SUMMARY:Wir empfehlen: Podiumsdiskussion: Für eine Mehrwegwende in München
DESCRIPTION:Podiumsdiskussion: Für eine Mehrwegwende in München Wann? 12.
  September 2025\,  18:00 bis 20:30 Uhr Wo? Fat Cat\,  Kellerstraße 8a\,  8
 1667 München Diskutiert mit den Podiumsgästen: Claudia Patzwahl – Proje
 ktleitung Verpackungssteuer Stadt Tübingen Sybille Stöhr – Stellvertret
 ende Fraktionsvorsitzende Die Grünen-Rosa Liste im Münchner Stadtrat Juli
 a Schmitt-Thiel – SPD-Stadtratsfraktion im Münchner Stadtrat[..]\nhttps:
 //www.m-i-n.net/events/wir-empfehlen-podiumsdiskussion-fuer-eine-mehrwegwen
 de-in-muenchen-2/
URL:https://www.m-i-n.net/events/wir-empfehlen-podiumsdiskussion-fuer-eine-mehrwegwende-in-muenchen-2/
END:VEVENT
END:VCALENDAR