BEGIN:VCALENDAR
VERSION:2.0
PRODID:-//eventon.com NONSGML v1.0//EN
CALSCALE:GREGORIAN
METHOD:PUBLISH
BEGIN:VEVENT
UID:69e9df96aa997
DTSTAMP:20260423T090006Z
DTSTART:20251118T170000Z
DTEND:20251118T190000Z
LOCATION:
SUMMARY:Wir empfehlen: 3. Equal Kerl Workshop
DESCRIPTION:3. Equal Kerl Workshop Wann? 18. November 2025\,  18:00 bis 2
 0:00 Uhr Wo? Impact Hub\,  Gotzinger Str. 8\,  81371 München In dem regelm
 äßig stattfindenden Equal Kerl Workshops (nicht zu verwechseln mit den St
 ammtischen) wird gemeinsam mit Fairstärkung eine Kampagne entwickelt\,  di
 e gezielt bei Männern das Bewusstsein dafür wecken möchte\,  wie wichtig
  eine[..]\nhttps://www.m-i-n.net/events/wir-empfehlen-dritter-equal-kerl-wo
 rkshop/
URL:https://www.m-i-n.net/events/wir-empfehlen-dritter-equal-kerl-workshop/
END:VEVENT
END:VCALENDAR