BEGIN:VCALENDAR
VERSION:2.0
PRODID:-//eventon.com NONSGML v1.0//EN
CALSCALE:GREGORIAN
METHOD:PUBLISH
BEGIN:VEVENT
UID:69e738c7387a3
DTSTAMP:20260421T084351Z
DTSTART:20250925T110000Z
DTEND:20250925T140000Z
LOCATION:
SUMMARY:Wir empfehlen: Tag der offenen Tür im Haus der Kost
DESCRIPTION:Tag der offenen Tür im Haus der Kost Wann? 25. September 2025 
 von 13 bis 16 Uhr Wo? Haus der Kost\,  Freddie-Mercury-Straße 5\,  80797 
 München Am 25. September öffnet das Haus der Kost seine Türen für Sie
 ! Alle interessierten Küchenteams der Außer-Haus-Verpflegung in München 
 sind herzlich eingeladen\,  das Haus der Kost mit seinem[..]\nhttps://www.m
 -i-n.net/events/wir-empfehlen-tag-der-offenen-tuer-im-haus-der-kost/
URL:https://www.m-i-n.net/events/wir-empfehlen-tag-der-offenen-tuer-im-haus-der-kost/
END:VEVENT
END:VCALENDAR