BEGIN:VCALENDAR
VERSION:2.0
PRODID:-//eventon.com NONSGML v1.0//EN
CALSCALE:GREGORIAN
METHOD:PUBLISH
BEGIN:VEVENT
UID:69e739222c42c
DTSTAMP:20260421T084522Z
DTSTART:20250819T150000Z
DTEND:20250819T180000Z
LOCATION:
SUMMARY:Wir empfehlen: Führung zum Bau der Tram-Westtangente
DESCRIPTION:Führung zum Bau der Tram-Westtangente &#8211; Hauptwasserleitu
 ngen: riesig\,  unabdingbar\,  selten zu sehen &#8211; wie sie funktioniere
 n Wann? 19. August 2025 ab 17 Uhr Wo? Treffpunkt Haltestelle Ammerseestr. T
 ram 18 in Richtung Gondrellplatz Bei der Baustelle Tram-Westtangente denken
  viele nur an den Trambau und wundern sich\,  dass alles so lange dauert[..
 ]\nhttps://www.m-i-n.net/events/wir-empfehlen-fuehrung-zum-bau-der-tram-wes
 ttangente/
URL:https://www.m-i-n.net/events/wir-empfehlen-fuehrung-zum-bau-der-tram-westtangente/
END:VEVENT
END:VCALENDAR