BEGIN:VCALENDAR
VERSION:2.0
PRODID:-//eventon.com NONSGML v1.0//EN
CALSCALE:GREGORIAN
METHOD:PUBLISH
BEGIN:VEVENT
UID:69e5fd765ffa1
DTSTAMP:20260420T101830Z
DTSTART:20250927T100000Z
DTEND:20250927T140000Z
LOCATION:
SUMMARY:Wir empfehlen: The Power Show
DESCRIPTION:The Power Show Wann? 27. September 2025 von 12 bis 16 Uhr Wo? 
 Nachbarschaftstreff Theresienhöhe\,  Hans-Fischer-Str. 12\,  80339 Münche
 n The Power Show ist eine dynamische und inspirierende Plattform\,  die daz
 u geschaffen wurde\,  Stimmen zu stärken\,  Geschichten sichtbar zu machen
  und Veränderung anzustoßen. Hier kommen vielfältige Persönlichkeiten\,
   Migrantinnen\,  Vordenkerinnen und Veränderer*innen zusammen\, [..]\nhtt
 ps://www.m-i-n.net/events/wir-empfehlen-the-power-show/
URL:https://www.m-i-n.net/events/wir-empfehlen-the-power-show/
END:VEVENT
END:VCALENDAR