BEGIN:VCALENDAR
VERSION:2.0
PRODID:-//eventon.com NONSGML v1.0//EN
CALSCALE:GREGORIAN
METHOD:PUBLISH
BEGIN:VEVENT
UID:69e74ae8738dd
DTSTAMP:20260421T100112Z
DTSTART:20250912T160000Z
DTEND:20250912T183000Z
LOCATION:
SUMMARY:Wir empfehlen: Podiumsdiskussion: Für eine Mehrwegwende in München
DESCRIPTION:Podiumsdiskussion: Für eine Mehrwegwende in München Wann? 12.
  September 2025 von 18 bis 20:30 Uhr Wo? Fat Cat\,  Kellerstraße 8a\,  81
 667 München Podiumsdiskussion &#8222;Für eine Mehrwegwende in München: 
 Von Verpackungssteuer bis Rückgabeinfrastruktur – was hilft wirklich geg
 en die Einwegflut?&#8220; Wir laden herzlich dazu ein\,  gemeinsam mit unse
 ren Podiumsgästen zu diskutieren: Claudia Patzwahl[..]\nhttps://www.m-i-n.
 net/events/wir-empfehlen-podiumsdiskussion-fuer-eine-mehrwegwende-in-muench
 en/
URL:https://www.m-i-n.net/events/wir-empfehlen-podiumsdiskussion-fuer-eine-mehrwegwende-in-muenchen/
END:VEVENT
END:VCALENDAR