BEGIN:VCALENDAR
VERSION:2.0
PRODID:-//eventon.com NONSGML v1.0//EN
CALSCALE:GREGORIAN
METHOD:PUBLISH
BEGIN:VEVENT
UID:69e619a083bb5
DTSTAMP:20260420T121840Z
DTSTART:20250910T150000Z
DTEND:20250910T180000Z
LOCATION:
SUMMARY:Wir empfehlen: Von Asphalt und Oasen
DESCRIPTION:Von Asphalt und Oasen &#8211; Fahrradrundgang zu Umwelt\,  sozi
 aler Gerechtigkeit und zivilgesellschaftlicher Teilhabe Wann? 10. September
  2025 von 17 bis 20 Uhr Wo? Treffunkt: Strafjustizzentrum\,  Nymphenburger
  Str. 16\,  80335 München München boomt: An jeder Ecke entstehen neue Geb
 äude\,  Baukräne gehören fast zur ständigen Landschaft unserer Stadt. D
 abei ist die Bauindustrie weltweit[..]\nhttps://www.m-i-n.net/events/wir-em
 pfehlen-von-asphalt-und-oasen/
URL:https://www.m-i-n.net/events/wir-empfehlen-von-asphalt-und-oasen/
END:VEVENT
END:VCALENDAR