BEGIN:VCALENDAR
VERSION:2.0
PRODID:-//eventon.com NONSGML v1.0//EN
CALSCALE:GREGORIAN
METHOD:PUBLISH
BEGIN:VEVENT
UID:69e5f52f06bc3
DTSTAMP:20260420T094311Z
DTSTART:20250913T060000Z
DTEND:20250915T160000Z
LOCATION:
SUMMARY:Wir empfehlen: Cleanup Munich: Münchner Müllmeisterschaft
DESCRIPTION:Cleanup Munich: Münchner Müllmeisterschaft Wann? 13. bis 15.
  September 2025 Wo? Stadt und Landkreis München Neue Runde\,  neue Runde!
  Die Münchner Müllmeisterschaft findet dieses Jahr zum 3. Mal statt! Wir 
 rufen alle Münchner Stadtteile und NEU auch Gemeinden im Landkreis Münche
 n auf\,  unsere Stadt und den Landkreis von Kippenstummeln\,  Einwegbechern
  und allerlei[..]\nhttps://www.m-i-n.net/events/wir-empfehlen-cleanup-munic
 h-muenchner-muellmeisterschaft/
URL:https://www.m-i-n.net/events/wir-empfehlen-cleanup-munich-muenchner-muellmeisterschaft/
END:VEVENT
END:VCALENDAR