BEGIN:VCALENDAR
VERSION:2.0
PRODID:-//eventon.com NONSGML v1.0//EN
CALSCALE:GREGORIAN
METHOD:PUBLISH
BEGIN:VEVENT
UID:69e74b74d1494
DTSTAMP:20260421T100332Z
DTSTART:20250905T140000Z
DTEND:20250905T160000Z
LOCATION:
SUMMARY:Wir empfehlen: Brotzeit\,  die schmeckt – schnell\,  gesund und kindgerecht!
DESCRIPTION:Brotzeit\,  die schmeckt – schnell\,  gesund und kindgerecht!
  Wann? 5. September 2025 von 16 bis 18 Uhr Wo? Münchner Ernährungsrat e.V
 .\,  Milchstr. 13\,  81667 München-Haidhausen Die Ferien sind fast vorbei 
 – Zeit\,  sich auf den Alltag vorzubereiten. Doch viele Eltern kennen das
 : wenig Zeit\,  hungrige Kinder und eine Brotdose\,  die[..]\nhttps://www.m
 -i-n.net/events/wir-empfehlen-brotzeit-die-schmeckt-schnell-gesund-und-kind
 gerecht/
URL:https://www.m-i-n.net/events/wir-empfehlen-brotzeit-die-schmeckt-schnell-gesund-und-kindgerecht/
END:VEVENT
END:VCALENDAR