BEGIN:VCALENDAR
VERSION:2.0
PRODID:-//eventon.com NONSGML v1.0//EN
CALSCALE:GREGORIAN
METHOD:PUBLISH
BEGIN:VEVENT
UID:69e506c8f2e2c
DTSTAMP:20260419T164600Z
DTSTART:20250818T080000Z
DTEND:20250818T100000Z
LOCATION:
SUMMARY:Wir empfehlen: Zaubertrank & Zuckerdetektive – Sommergetränke selbermachen
DESCRIPTION:Zaubertrank &amp; Zuckerdetektive – Sommergetränke selbermac
 hen Wann? 18. August 2025 von 10 bis 12 Uhr Wo?Münchner Ernährungsrat e.V
 .\,  Milchstr. 13\,  81667 München-Haidhausen Limo\,  Cola &amp; Co. schme
 cken zwar gut\,  enthalten aber oft sehr viel Zucker. In diesem Workshop en
 tdecken Kinder als Zuckerdetektiv:innen\,  wie viel Zucker wirklich in beli
 ebten Getränken steckt[..]\nhttps://www.m-i-n.net/events/wir-empfehlen-zau
 bertrank-zuckerdetektive-sommergetraenke-selbermachen/
URL:https://www.m-i-n.net/events/wir-empfehlen-zaubertrank-zuckerdetektive-sommergetraenke-selbermachen/
END:VEVENT
END:VCALENDAR