BEGIN:VCALENDAR
VERSION:2.0
PRODID:-//eventon.com NONSGML v1.0//EN
CALSCALE:GREGORIAN
METHOD:PUBLISH
BEGIN:VEVENT
UID:69e733c21e96b
DTSTAMP:20260421T082226Z
DTSTART:20250721
DTEND:20250722
LOCATION:
SUMMARY:Wir empfehlen: Balkonkraftwerk Infoveranstaltung
DESCRIPTION:Balkonkraftwerk Infoveranstaltung Wann? 21. Juli 2025 von 20 bi
 s 21:30 Uhr Wo? Online Balkonkraftwerke\,  auch als Stecker-Solargeräte b
 ekannt\,  sind günstig\,  kinderleicht in der Handhabung und sparen bares 
 Geld. In dieser Onlineveranstaltung erfährst Du alles zu Balkonkraftwerken
  (Dauer ca. 90 min)\,  von A wie Amortisierung über E wie Erzeugung bis Z 
 wie[..]\nhttps://www.m-i-n.net/events/wir-empfehlen-balkonkraftwerk-infover
 anstaltung-2/
URL:https://www.m-i-n.net/events/wir-empfehlen-balkonkraftwerk-infoveranstaltung-2/
END:VEVENT
END:VCALENDAR