BEGIN:VCALENDAR
VERSION:2.0
PRODID:-//eventon.com NONSGML v1.0//EN
CALSCALE:GREGORIAN
METHOD:PUBLISH
BEGIN:VEVENT
UID:69e499f478408
DTSTAMP:20260419T090140Z
DTSTART:20250709
DTEND:20250710
LOCATION:
SUMMARY:MIN-Machen: mach mit bei MIN-Projekten
DESCRIPTION:MIN-Machen: mach mit bei MIN-Projekten Wann? 9. Juli 2025 von 1
 9:30 bis 21 Uhr Wo? Online Du möchtest dich engagieren\,  damit München 
 nachhaltiger wird und hast vielleicht sogar Expertise in einem bestimmten B
 ereich? Dann komm zu unserem Treffen und lerne die Arbeit der MIN und unser
 e Projekte kennen. Wir stellen Kontakt[..]\nhttps://www.m-i-n.net/events/mi
 n-machen-mach-mit-bei-min-projekten/
URL:https://www.m-i-n.net/events/min-machen-mach-mit-bei-min-projekten/
END:VEVENT
END:VCALENDAR