BEGIN:VCALENDAR
VERSION:2.0
PRODID:-//eventon.com NONSGML v1.0//EN
CALSCALE:GREGORIAN
METHOD:PUBLISH
BEGIN:VEVENT
UID:69e5e542a292c
DTSTAMP:20260420T083514Z
DTSTART:20250709
DTEND:20250710
LOCATION:
SUMMARY:Wir empfehlen: Zukunft unter Strom: Wie Verkehrs- und Energiewende mit Hilfe der Batterietechnik gelingen
DESCRIPTION:Zukunft unter Strom: Wie Verkehrs- und Energiewende mit Hilfe d
 er Batterietechnik gelingen Wann? 9. Juli 2025 von 19 bis 20:30 Uhr Wo?Â MÃ
 ¼nchner zukunftssalon\,  GoethestraÃŸe 28\,  80336 MÃ¼nchen oder online Ern
 euerbare Energien gewinnen in Deutschland zunehmend an Bedeutung und decken
  an vielen Tagen bereits den GroÃŸteil des Strombedarfs. Ein zentrales Prob
 lem[..]\nhttps://www.m-i-n.net/events/wir-empfehlen-zukunft-unter-strom-wie
 -verkehrs-und-energiewende-mit-hilfe-der-batterietechnik-gelingen/
URL:https://www.m-i-n.net/events/wir-empfehlen-zukunft-unter-strom-wie-verkehrs-und-energiewende-mit-hilfe-der-batterietechnik-gelingen/
END:VEVENT
END:VCALENDAR