BEGIN:VCALENDAR
VERSION:2.0
PRODID:-//eventon.com NONSGML v1.0//EN
CALSCALE:GREGORIAN
METHOD:PUBLISH
BEGIN:VEVENT
UID:69e5e79b2efea
DTSTAMP:20260420T084515Z
DTSTART:20250702
DTEND:20250703
LOCATION:
SUMMARY:Wir empfehlen: Infos fÃ¼r Vereine und ehrenamtliche Initiativen zu finanziellen FÃ¶rdermÃ¶glichkeiten der Landeshauptstadt MÃ¼nchen
DESCRIPTION:Infos fÃ¼r Vereine und ehrenamtliche Initiativen zu finanzielle
 n FÃ¶rdermÃ¶glichkeiten der Landeshauptstadt MÃ¼nchen Wann? 02.07.2025 von 
 17:00-18:30 Uhr Wo? online Die Fachstelle BÃ¼rgerschaftliches Engagement de
 r Landeshauptstadt MÃ¼nchen bietet eine digitale Informationsveranstaltung 
 zu finanziellen FÃ¶rdermÃ¶glichkeiten fÃ¼r Vereine oder ehrenamtliche Initi
 ativen an. Nach dem fachlichen Input durch eine Expertin aus dem Bereich BÃ
 ¼rgerschaftliches[..]\nhttps://www.m-i-n.net/events/wir-empfehlen-infos-fue
 r-vereine-und-ehrenamtliche-initiativen-zu-finanziellen-foedermoeglichkeite
 n-der-landeshauptstadt-muenchen/
URL:https://www.m-i-n.net/events/wir-empfehlen-infos-fuer-vereine-und-ehrenamtliche-initiativen-zu-finanziellen-foedermoeglichkeiten-der-landeshauptstadt-muenchen/
END:VEVENT
END:VCALENDAR