BEGIN:VCALENDAR
VERSION:2.0
PRODID:-//eventon.com NONSGML v1.0//EN
CALSCALE:GREGORIAN
METHOD:PUBLISH
BEGIN:VEVENT
UID:69e771b0631fc
DTSTAMP:20260421T124640Z
DTSTART:20250702
DTEND:20250703
LOCATION:
SUMMARY:Wir empfehlen: VHS-Vortrag: Gemeinschaftsorientiertes Wohnen in Wohnprojekten
DESCRIPTION:VHS-Vortrag: Gemeinschaftsorientiertes Wohnen in Wohnprojekten 
 Wann? 02.07.2025 ab 18 Uhr Wo? MVHS Riem\,  Volkshochschule Paul-Wasserman
 n-Str. 10 Das Wohnen in Wohnprojekten ist beliebt und begehrt. Dafür gibt 
 es gute Gründe. Wohnprojekte sind Selbsthilfeorganisationen\,  die Kräfte
  und Ressourcen ihrer Mitglieder bündeln\,  um gemeinsam Wohnraum zu schaf
 fen und zu bewirtschaften. Die Infoveranstaltung ist kostenfrei[..]\nhttps:
 //www.m-i-n.net/events/wir-empfehlen-vhs-vortrag-gemeinschaftsorienteiertes
 -wohnen-in-wohnprojekten-2/
URL:https://www.m-i-n.net/events/wir-empfehlen-vhs-vortrag-gemeinschaftsorienteiertes-wohnen-in-wohnprojekten-2/
END:VEVENT
END:VCALENDAR