BEGIN:VCALENDAR
VERSION:2.0
PRODID:-//eventon.com NONSGML v1.0//EN
CALSCALE:GREGORIAN
METHOD:PUBLISH
BEGIN:VEVENT
UID:69e5e526a248a
DTSTAMP:20260420T083446Z
DTSTART:20250724
DTEND:20250725
LOCATION:
SUMMARY:Wir empfehlen: "Don't let the system get you down" - Positive Beispiele für eine solidarische Welt
DESCRIPTION:&#8222;Don&#8217;t let the system get you down&#8220; &#8211; P
 ositive Beispiele für eine solidarische Welt Wann? 24.07.2025 von 9:30 &#8
 211; 17:00 Uhr Wo? EineWeltHaus München\,  Schwanthalerstraße 80\,  80336
  München In einer von multiplen Krisen geprägten Welt\,  werden positive 
 Ansätze schnell vergessen. Die Probleme von Klimawandel\,  Krieg und globa
 ler Ungerechtigkeit scheinen einen[..]\nhttps://www.m-i-n.net/events/wir-em
 pfehlen-dont-let-the-system-get-you-down-positive-beispiele-fuer-eine-solid
 arische-welt/
URL:https://www.m-i-n.net/events/wir-empfehlen-dont-let-the-system-get-you-down-positive-beispiele-fuer-eine-solidarische-welt/
END:VEVENT
END:VCALENDAR