BEGIN:VCALENDAR
VERSION:2.0
PRODID:-//eventon.com NONSGML v1.0//EN
CALSCALE:GREGORIAN
METHOD:PUBLISH
BEGIN:VEVENT
UID:69e76f1293dd5
DTSTAMP:20260421T123530Z
DTSTART:20250601
DTEND:20250602
LOCATION:
SUMMARY:Wir empfehlen: World On Wheels 2025 – München rollt für Klimagerechtigkeit
DESCRIPTION:World On Wheels 2025 – München rollt für Klimagerechtigkeit
  Wann? 1. Juni 2025 von 13:30 Uhr Wo? Treffpunkt Ackermann Skatepark (Olymp
 iapark) Du rollst. Wir rollen. Die Zukunft rollt. Ob Board\,  Bike\,  Blade
 s oder Rolli – wir machen gemeinsam Tempo für eine Stadt\,  die klimafre
 undlich\,  barrierefrei und für alle da ist.[..]\nhttps://www.m-i-n.net/ev
 ents/wir-empfehlen-world-on-wheels-2025-muenchen-rollt-fuer-klimagerechtigk
 eit/
URL:https://www.m-i-n.net/events/wir-empfehlen-world-on-wheels-2025-muenchen-rollt-fuer-klimagerechtigkeit/
END:VEVENT
END:VCALENDAR