BEGIN:VCALENDAR
VERSION:2.0
PRODID:-//eventon.com NONSGML v1.0//EN
CALSCALE:GREGORIAN
METHOD:PUBLISH
BEGIN:VEVENT
UID:69ea0beb8b003
DTSTAMP:20260423T120915Z
DTSTART:20250510
DTEND:20250511
LOCATION:
SUMMARY:Wir empfehlen: müllfrei-meile 2025 Gemeinsam ein müllfreies Moosach schaffen!
DESCRIPTION:müllfrei-meile 2025 &#8211; Gemeinsam ein müllfreies Moosach 
 schaffen! Wann?10. bis 25. Mai 2025 Wo? Moosach Zwei Wochen lang wimmelt es
  in Moosach nur so von Müllvermeidung und Ressourcenschutz. Gemeinsam gest
 alten lokale Initiativen und Anwohner*innen ihr Viertel lebenswert und saub
 er – auch über den Aktionszeitraum hinaus. Lass dich inspirieren und sch
 au[..]\nhttps://www.m-i-n.net/events/wir-empfehlen-muellfrei-meile-2025-gem
 einsam-ein-muellfreies-moosach-schaffen/
URL:https://www.m-i-n.net/events/wir-empfehlen-muellfrei-meile-2025-gemeinsam-ein-muellfreies-moosach-schaffen/
END:VEVENT
END:VCALENDAR