BEGIN:VCALENDAR
VERSION:2.0
PRODID:-//eventon.com NONSGML v1.0//EN
CALSCALE:GREGORIAN
METHOD:PUBLISH
BEGIN:VEVENT
UID:69e780f697b37
DTSTAMP:20260421T135150Z
DTSTART:20250519
DTEND:20250520
LOCATION:
SUMMARY:Wir empfehlen:  Puzzle der Biodiversität: Mitmachen – diskutieren – weiterdenken
DESCRIPTION:Puzzle der Biodiversität: Mitmachen – diskutieren – weiter
 denken Wann? 19.05. 18-21 Uhr Wo? Nachbarschaftstreff DomagkPark\,  Max-Bi
 ll Str 35\,  München\,  80807 Aktueller Bezug: Letzten Mittwoch fand wie j
 edes Jahr der internationale Tag der biologischen Vielfalt statt\,  der dar
 an erinnert\,  dass am 22. Mai 1992 das UN-Übereinkommen über die biologi
 sche Vielfalt verabschiedet wurde.[..]\nhttps://www.m-i-n.net/events/wir-em
 pfehlen-puzzle-der-biodiversitaet-mitmachen-diskutieren-weiterdenken/
URL:https://www.m-i-n.net/events/wir-empfehlen-puzzle-der-biodiversitaet-mitmachen-diskutieren-weiterdenken/
END:VEVENT
END:VCALENDAR