BEGIN:VCALENDAR
VERSION:2.0
PRODID:-//eventon.com NONSGML v1.0//EN
CALSCALE:GREGORIAN
METHOD:PUBLISH
BEGIN:VEVENT
UID:69e7480892d0c
DTSTAMP:20260421T094856Z
DTSTART:20250508
DTEND:20250509
LOCATION:
SUMMARY:Wir empfehlen: Orte des Wandels – Rundgang durch Laim
DESCRIPTION:Orte des Wandels – Rundgang durch Laim Wann? 08.05.2025\,  17
 :30 &#8211; 19:30 Uhr Wo? Laim_up (Guido- Schneble- Straße 24) Orte des Wa
 ndels ist dieses Jahr mit diesem Rundgang beim Jane’s Walk Fußverkehrfes
 tival dabei! Lerne zukunftsweisende Ideen und Initiativen und deren Akteur*
 innen auf diesem Rundgang durch Laim kennen. In Kooperation mit[..]\nhttps:
 //www.m-i-n.net/events/wir-empfehlen-orte-des-wandels-rundgang-durch-laim/
URL:https://www.m-i-n.net/events/wir-empfehlen-orte-des-wandels-rundgang-durch-laim/
END:VEVENT
END:VCALENDAR