BEGIN:VCALENDAR
VERSION:2.0
PRODID:-//eventon.com NONSGML v1.0//EN
CALSCALE:GREGORIAN
METHOD:PUBLISH
BEGIN:VEVENT
UID:69e5e9fe8a06b
DTSTAMP:20260420T085526Z
DTSTART:20250427
DTEND:20250428
LOCATION:
SUMMARY:Wir empfehlen: Rhabarber-Freude
DESCRIPTION:Rhabarber-Freude Wann? Sonntag\,  27. April 2025 von 10:00 &#8
 211; 13:00 Uhr Wo? Münchner Ernährungsrat e.V.\,  Milchstr. 13\,  81667 
 München Die Rhabarber-Saison beginnt! In der Quartiersküche kommt der Mü
 nchner Ernährungsrat zusammen\,  um die vielseitigen Möglichkeiten dieses
  fruchtig-säuerlichen Frühlingsklassikers zu entdecken. Ob in Kuchen\,  K
 ompott oder herzhaften Gerichten – ihr tauscht Ideen aus\,  probieren[..]
 \nhttps://www.m-i-n.net/events/wir-empfehlen-rhabarber-freude/
URL:https://www.m-i-n.net/events/wir-empfehlen-rhabarber-freude/
END:VEVENT
END:VCALENDAR