BEGIN:VCALENDAR
VERSION:2.0
PRODID:-//eventon.com NONSGML v1.0//EN
CALSCALE:GREGORIAN
METHOD:PUBLISH
BEGIN:VEVENT
UID:69e604741f60a
DTSTAMP:20260420T104820Z
DTSTART:20250601T110000Z
DTEND:20250601T180000Z
LOCATION:Kazmairstraße Ecke Parkstraße Parkstraße & Kazmairstraße\,  80339 München-Schwanthalerhöhe
SUMMARY:Tag des Guten Lebens im Westend
DESCRIPTION:Tag des Guten Lebens im Westend Wann? 1. Juni 2025\,  von 11:00
  bis 18:00 Wo? Kazmairstraße Ecke Parkstraße Veranstalter: Westend Kiez 
 unterstützt durch Gutes Leben im Quartier &nbsp; Wir möchten Euch herzlic
 h zu einem Tag des guten Lebens im Westend einladen! Angeboten werden folge
 nde Aktionen: Spielaktionen für Kinder eine große Leinwand[..]\nhttps://w
 ww.m-i-n.net/events/wir-empfehlen-tag-des-guten-lebens-im-westend/
URL:https://www.m-i-n.net/events/wir-empfehlen-tag-des-guten-lebens-im-westend/
END:VEVENT
END:VCALENDAR