BEGIN:VCALENDAR
VERSION:2.0
PRODID:-//eventon.com NONSGML v1.0//EN
CALSCALE:GREGORIAN
METHOD:PUBLISH
BEGIN:VEVENT
UID:69e5f97e1d491
DTSTAMP:20260420T100134Z
DTSTART:20250513
DTEND:20250514
LOCATION:
SUMMARY:Wir empfehlen: VCD Debatten-Ãœbersicht
DESCRIPTION:VCD Debatten-Ãœbersicht Wann? Dienstag\, Â 13. Mai 2025\,  19 U
 hr Wo?Â Online Von A nach Berg â€“ bequem\,  schnell und klimafreundlich Be
 rge erleben. Berge erhalten. Nach dieser Vision fÃ¶rdert der Alpenverein MÃ
 ¼nchen &amp; Oberland klimafreundlichen und naturvertrÃ¤glichen Bergsport. 
 Als viertgrÃ¶ÃŸter Sportverein mit fast 190.000 Mitgliedern und aktiver Tei
 l eines Naturschutzverbands setzt er sich[..]\nhttps://www.m-i-n.net/events
 /wir-empfehlen-vcd-debatten-uebersicht/
URL:https://www.m-i-n.net/events/wir-empfehlen-vcd-debatten-uebersicht/
END:VEVENT
END:VCALENDAR