BEGIN:VCALENDAR
VERSION:2.0
PRODID:-//eventon.com NONSGML v1.0//EN
CALSCALE:GREGORIAN
METHOD:PUBLISH
BEGIN:VEVENT
UID:69e5fdf22f2d0
DTSTAMP:20260420T102034Z
DTSTART:20250428
DTEND:20250429
LOCATION:
SUMMARY:Wir empfehlen: Solar2030 Balkonkraftwerk-Infoveranstaltung
DESCRIPTION:Solar2030 Balkonkraftwerk-Infoveranstaltung Wann: 28.04.2025 vo
 n 20:00-21:30 Uhr Wo: Online Balkonkraftwerke\,  auch als Stecker-SolargerĂ
 ¤te bekannt\,  sind gĂĽnstig\,  kinderleicht in der Handhabung und sparen b
 ares Geld. In dieser Onlineveranstaltung erfĂ¤hrst Du alles zu Balkonkraftw
 erken (Dauer ca. 90 min)\,  von A wie Amortisierung ĂĽber E wie Erzeugung b
 is Z wie ZĂ¤hler. NatĂĽrlich kannst[..]\nhttps://www.m-i-n.net/events/wir-e
 mpfehlen-solar2030-balkonkraftwerk-infoveranstaltung-3/
URL:https://www.m-i-n.net/events/wir-empfehlen-solar2030-balkonkraftwerk-infoveranstaltung-3/
END:VEVENT
END:VCALENDAR