BEGIN:VCALENDAR
VERSION:2.0
PRODID:-//eventon.com NONSGML v1.0//EN
CALSCALE:GREGORIAN
METHOD:PUBLISH
BEGIN:VEVENT
UID:69e60d18ee9e6
DTSTAMP:20260420T112512Z
DTSTART:20250523
DTEND:20250524
LOCATION:
SUMMARY:Tag der Nachbarschaft von Olytopia
DESCRIPTION:Tag der Nachbarschaft von Olytopia Wann? 23.05.2025 Wo? In den 
 Häusern &amp; Straßen des Olympiadorfs Veranstalter: Olytopia unterstütz
 t durch Gutes Leben im Quartier Am Freitag\,  den 23. Mai\,  ist Tag der Na
 chbarschaft. Ist das nicht eine wunderbare Gelegenheit\,  um als Hausgemein
 schaft zusammenzukommen\,  sich (besser) kennenzulernen\,  gutes Essen und 
 Getränke zu[..]\nhttps://www.m-i-n.net/events/tag-der-nachbarschaft-von-ol
 ytopia/
URL:https://www.m-i-n.net/events/tag-der-nachbarschaft-von-olytopia/
END:VEVENT
END:VCALENDAR